Package: GRaNIE Version: 1.4.1 Command: /home/biocbuild/bbs-3.17-bioc/R/bin/R CMD INSTALL GRaNIE StartedAt: 2023-10-15 15:48:33 -0400 (Sun, 15 Oct 2023) EndedAt: 2023-10-15 15:49:27 -0400 (Sun, 15 Oct 2023) EllapsedTime: 54.4 seconds RetCode: 0 Status: OK