Package: GSALightning Version: 1.28.0 Command: /home/biocbuild/bbs-3.17-bioc/R/bin/R CMD build --keep-empty-dirs --no-resave-data GSALightning StartedAt: 2023-10-15 17:01:55 -0400 (Sun, 15 Oct 2023) EndedAt: 2023-10-15 17:03:01 -0400 (Sun, 15 Oct 2023) EllapsedTime: 65.8 seconds RetCode: 0 Status: OK PackageFile: GSALightning_1.28.0.tar.gz PackageFileSize: 4.227 MiB