Package: GSAR Version: 1.34.0 Command: /Library/Frameworks/R.framework/Resources/bin/R CMD build --keep-empty-dirs --no-resave-data GSAR StartedAt: 2023-10-15 18:43:45 -0400 (Sun, 15 Oct 2023) EndedAt: 2023-10-15 18:53:39 -0400 (Sun, 15 Oct 2023) EllapsedTime: 593.3 seconds RetCode: 0 Status: OK PackageFile: GSAR_1.34.0.tar.gz PackageFileSize: 2.208 MiB