Package: GSAR Version: 1.34.0 Command: /Library/Frameworks/R.framework/Resources/bin/R CMD check --install=check:GSAR.install-out.txt --library=/Library/Frameworks/R.framework/Resources/library --no-vignettes --timings GSAR_1.34.0.tar.gz StartedAt: 2023-10-16 02:25:18 -0400 (Mon, 16 Oct 2023) EndedAt: 2023-10-16 02:27:02 -0400 (Mon, 16 Oct 2023) EllapsedTime: 104.2 seconds RetCode: 0 Status: OK CheckDir: GSAR.Rcheck Warnings: 0