Package: GSgalgoR Version: 1.10.0 Command: rm -rf GSgalgoR.buildbin-libdir && mkdir GSgalgoR.buildbin-libdir && F:\biocbuild\bbs-3.17-bioc\R\bin\R.exe CMD INSTALL --build --library=GSgalgoR.buildbin-libdir GSgalgoR_1.10.0.tar.gz StartedAt: 2023-10-16 08:54:42 -0400 (Mon, 16 Oct 2023) EndedAt: 2023-10-16 08:54:54 -0400 (Mon, 16 Oct 2023) EllapsedTime: 12.5 seconds RetCode: 0 Status: OK PackageFile: GSgalgoR_1.10.0.zip PackageFileSize: 2.239 MiB