Package: GSgalgoR Version: 1.10.0 Command: chmod a+r GSgalgoR -R && F:\biocbuild\bbs-3.17-bioc\R\bin\R.exe CMD build --keep-empty-dirs --no-resave-data GSgalgoR StartedAt: 2023-10-15 19:43:46 -0400 (Sun, 15 Oct 2023) EndedAt: 2023-10-15 19:45:30 -0400 (Sun, 15 Oct 2023) EllapsedTime: 103.3 seconds RetCode: 0 Status: OK PackageFile: GSgalgoR_1.10.0.tar.gz PackageFileSize: 2.176 MiB