Package: GateFinder Version: 1.20.0 Command: /home/biocbuild/bbs-3.17-bioc/R/bin/R CMD INSTALL GateFinder StartedAt: 2023-10-15 15:15:16 -0400 (Sun, 15 Oct 2023) EndedAt: 2023-10-15 15:15:27 -0400 (Sun, 15 Oct 2023) EllapsedTime: 11.0 seconds RetCode: 0 Status: OK