Package: GeneGeneInteR Version: 1.26.0 Command: /home/biocbuild/bbs-3.17-bioc/R/bin/R CMD build --keep-empty-dirs --no-resave-data GeneGeneInteR StartedAt: 2023-10-15 16:53:24 -0400 (Sun, 15 Oct 2023) EndedAt: 2023-10-15 16:53:53 -0400 (Sun, 15 Oct 2023) EllapsedTime: 29.9 seconds RetCode: 0 Status: OK PackageFile: GeneGeneInteR_1.26.0.tar.gz PackageFileSize: 1020 KiB