Package: GeneNetworkBuilder Version: 1.42.0 Command: /Library/Frameworks/R.framework/Resources/bin/R CMD check --install=check:GeneNetworkBuilder.install-out.txt --library=/Library/Frameworks/R.framework/Resources/library --no-vignettes --timings GeneNetworkBuilder_1.42.0.tar.gz StartedAt: 2023-10-16 01:58:40 -0400 (Mon, 16 Oct 2023) EndedAt: 2023-10-16 02:00:52 -0400 (Mon, 16 Oct 2023) EllapsedTime: 132.2 seconds RetCode: 0 Status: OK CheckDir: GeneNetworkBuilder.Rcheck Warnings: 0