Package: GeneNetworkBuilder Version: 1.42.0 Command: /home/biocbuild/bbs-3.17-bioc/R/bin/R CMD build --keep-empty-dirs --no-resave-data GeneNetworkBuilder StartedAt: 2023-10-15 16:53:33 -0400 (Sun, 15 Oct 2023) EndedAt: 2023-10-15 17:01:15 -0400 (Sun, 15 Oct 2023) EllapsedTime: 462.1 seconds RetCode: 0 Status: OK PackageFile: GeneNetworkBuilder_1.42.0.tar.gz PackageFileSize: 8.606 MiB