Package: GeneRegionScan Version: 1.56.0 Command: /Library/Frameworks/R.framework/Resources/bin/R CMD INSTALL GeneRegionScan StartedAt: 2023-10-15 15:15:39 -0400 (Sun, 15 Oct 2023) EndedAt: 2023-10-15 15:16:26 -0400 (Sun, 15 Oct 2023) EllapsedTime: 47.3 seconds RetCode: 0 Status: OK