Package: GeneStructureTools Version: 1.20.0 Command: /Library/Frameworks/R.framework/Resources/bin/R CMD check --install=check:GeneStructureTools.install-out.txt --library=/Library/Frameworks/R.framework/Resources/library --no-vignettes --timings GeneStructureTools_1.20.0.tar.gz StartedAt: 2023-10-16 02:00:10 -0400 (Mon, 16 Oct 2023) EndedAt: 2023-10-16 02:16:29 -0400 (Mon, 16 Oct 2023) EllapsedTime: 979.1 seconds RetCode: 0 Status: OK CheckDir: GeneStructureTools.Rcheck Warnings: 0