Package: GeneStructureTools Version: 1.20.0 Command: chmod a+r GeneStructureTools -R && F:\biocbuild\bbs-3.17-bioc\R\bin\R.exe CMD build --keep-empty-dirs --no-resave-data GeneStructureTools StartedAt: 2023-10-15 19:26:36 -0400 (Sun, 15 Oct 2023) EndedAt: 2023-10-15 19:29:15 -0400 (Sun, 15 Oct 2023) EllapsedTime: 158.8 seconds RetCode: 0 Status: OK PackageFile: GeneStructureTools_1.20.0.tar.gz PackageFileSize: 2.174 MiB