Package: GeneTonic Version: 2.4.2 Command: /home/biocbuild/bbs-3.17-bioc/R/bin/R CMD build --keep-empty-dirs --no-resave-data GeneTonic StartedAt: 2023-10-15 16:54:09 -0400 (Sun, 15 Oct 2023) EndedAt: 2023-10-15 16:55:40 -0400 (Sun, 15 Oct 2023) EllapsedTime: 91.4 seconds RetCode: 0 Status: OK PackageFile: GeneTonic_2.4.2.tar.gz PackageFileSize: 8.854 MiB