Package: GeneTonic Version: 2.4.2 Command: /home/biocbuild/bbs-3.17-bioc/R/bin/R CMD check --install=check:GeneTonic.install-out.txt --library=/home/biocbuild/bbs-3.17-bioc/R/site-library --timings GeneTonic_2.4.2.tar.gz StartedAt: 2023-10-15 21:33:32 -0400 (Sun, 15 Oct 2023) EndedAt: 2023-10-15 21:43:23 -0400 (Sun, 15 Oct 2023) EllapsedTime: 590.7 seconds RetCode: 0 Status: OK CheckDir: GeneTonic.Rcheck Warnings: 0