Package: GeneTonic Version: 2.4.2 Command: /home/biocbuild/bbs-3.17-bioc/R/bin/R CMD INSTALL GeneTonic StartedAt: 2023-10-15 15:32:15 -0400 (Sun, 15 Oct 2023) EndedAt: 2023-10-15 15:32:49 -0400 (Sun, 15 Oct 2023) EllapsedTime: 33.5 seconds RetCode: 0 Status: OK