Package: GenomAutomorphism Version: 1.2.0 Command: rm -rf GenomAutomorphism.buildbin-libdir && mkdir GenomAutomorphism.buildbin-libdir && /Users/biocbuild/BBS/utils/build-universal.sh GenomAutomorphism_1.2.0.tar.gz /Library/Frameworks/R.framework/Resources/bin/R GenomAutomorphism.buildbin-libdir StartedAt: 2023-10-16 09:27:44 -0400 (Mon, 16 Oct 2023) EndedAt: 2023-10-16 09:29:10 -0400 (Mon, 16 Oct 2023) EllapsedTime: 85.7 seconds RetCode: 0 Status: OK PackageFile: GenomAutomorphism_1.2.0.tgz PackageFileSize: 1.691 MiB