Package: GenomAutomorphism Version: 1.2.0 Command: /Library/Frameworks/R.framework/Resources/bin/R CMD build --keep-empty-dirs --no-resave-data GenomAutomorphism StartedAt: 2023-10-15 18:30:48 -0400 (Sun, 15 Oct 2023) EndedAt: 2023-10-15 18:35:20 -0400 (Sun, 15 Oct 2023) EllapsedTime: 271.1 seconds RetCode: 0 Status: OK PackageFile: GenomAutomorphism_1.2.0.tar.gz PackageFileSize: 1.138 MiB