Package: GenomAutomorphism Version: 1.2.0 Command: /Library/Frameworks/R.framework/Resources/bin/R CMD INSTALL GenomAutomorphism StartedAt: 2023-10-15 16:26:14 -0400 (Sun, 15 Oct 2023) EndedAt: 2023-10-15 16:27:30 -0400 (Sun, 15 Oct 2023) EllapsedTime: 75.8 seconds RetCode: 0 Status: OK