Package: GenomicSuperSignature Version: 1.8.0 Command: rm -rf GenomicSuperSignature.buildbin-libdir && mkdir GenomicSuperSignature.buildbin-libdir && /Users/biocbuild/BBS/utils/build-universal.sh GenomicSuperSignature_1.8.0.tar.gz /Library/Frameworks/R.framework/Resources/bin/R GenomicSuperSignature.buildbin-libdir StartedAt: 2023-10-16 09:28:19 -0400 (Mon, 16 Oct 2023) EndedAt: 2023-10-16 09:30:00 -0400 (Mon, 16 Oct 2023) EllapsedTime: 101.6 seconds RetCode: 0 Status: OK PackageFile: GenomicSuperSignature_1.8.0.tgz PackageFileSize: 6.933 MiB