Package: GenomicSuperSignature Version: 1.8.0 Command: /Library/Frameworks/R.framework/Resources/bin/R CMD build --keep-empty-dirs --no-resave-data GenomicSuperSignature StartedAt: 2023-10-15 18:32:59 -0400 (Sun, 15 Oct 2023) EndedAt: 2023-10-15 18:35:48 -0400 (Sun, 15 Oct 2023) EllapsedTime: 169.0 seconds RetCode: 0 Status: OK PackageFile: GenomicSuperSignature_1.8.0.tar.gz PackageFileSize: 6.283 MiB