Package: GenomicSuperSignature Version: 1.8.0 Command: F:\biocbuild\bbs-3.17-bioc\R\bin\R.exe CMD check --no-multiarch --install=check:GenomicSuperSignature.install-out.txt --library=F:\biocbuild\bbs-3.17-bioc\R\library --no-vignettes --timings GenomicSuperSignature_1.8.0.tar.gz StartedAt: 2023-10-16 02:34:17 -0400 (Mon, 16 Oct 2023) EndedAt: 2023-10-16 02:37:57 -0400 (Mon, 16 Oct 2023) EllapsedTime: 219.4 seconds RetCode: 0 Status: WARNINGS CheckDir: GenomicSuperSignature.Rcheck Warnings: 2