Package: GmicR Version: 1.14.0 Command: /Library/Frameworks/R.framework/Resources/bin/R CMD check --install=check:GmicR.install-out.txt --library=/Library/Frameworks/R.framework/Resources/library --no-vignettes --timings GmicR_1.14.0.tar.gz StartedAt: 2023-10-16 02:17:35 -0400 (Mon, 16 Oct 2023) EndedAt: 2023-10-16 02:57:35 -0400 (Mon, 16 Oct 2023) EllapsedTime: 2400.0 seconds RetCode: None Status: TIMEOUT CheckDir: GmicR.Rcheck Warnings: NA