Package: GmicR Version: 1.14.0 Command: chmod a+r GmicR -R && F:\biocbuild\bbs-3.17-bioc\R\bin\R.exe CMD build --keep-empty-dirs --no-resave-data GmicR StartedAt: 2023-10-15 19:35:05 -0400 (Sun, 15 Oct 2023) EndedAt: 2023-10-15 19:45:48 -0400 (Sun, 15 Oct 2023) EllapsedTime: 642.7 seconds RetCode: 0 Status: OK PackageFile: GmicR_1.14.0.tar.gz PackageFileSize: 3.4 MiB