Package: GraphPAC Version: 1.42.0 Command: rm -rf GraphPAC.buildbin-libdir && mkdir GraphPAC.buildbin-libdir && /Users/biocbuild/BBS/utils/build-universal.sh GraphPAC_1.42.0.tar.gz /Library/Frameworks/R.framework/Resources/bin/R GraphPAC.buildbin-libdir StartedAt: 2023-10-16 09:31:10 -0400 (Mon, 16 Oct 2023) EndedAt: 2023-10-16 09:32:03 -0400 (Mon, 16 Oct 2023) EllapsedTime: 53.1 seconds RetCode: 0 Status: OK PackageFile: GraphPAC_1.42.0.tgz PackageFileSize: 521.9 KiB