Package: GraphPAC Version: 1.42.0 Command: /home/biocbuild/bbs-3.17-bioc/R/bin/R CMD build --keep-empty-dirs --no-resave-data GraphPAC StartedAt: 2023-10-15 17:01:16 -0400 (Sun, 15 Oct 2023) EndedAt: 2023-10-15 17:02:34 -0400 (Sun, 15 Oct 2023) EllapsedTime: 78.7 seconds RetCode: 0 Status: OK PackageFile: GraphPAC_1.42.0.tar.gz PackageFileSize: 540.2 KiB