Package: GraphPAC Version: 1.42.0 Command: /home/biocbuild/bbs-3.17-bioc/R/bin/R CMD check --install=check:GraphPAC.install-out.txt --library=/home/biocbuild/bbs-3.17-bioc/R/site-library --timings GraphPAC_1.42.0.tar.gz StartedAt: 2023-10-15 21:49:58 -0400 (Sun, 15 Oct 2023) EndedAt: 2023-10-15 21:53:12 -0400 (Sun, 15 Oct 2023) EllapsedTime: 194.7 seconds RetCode: 0 Status: OK CheckDir: GraphPAC.Rcheck Warnings: 0