Package: HIBAG Version: 1.36.4 Command: /Library/Frameworks/R.framework/Resources/bin/R CMD INSTALL HIBAG StartedAt: 2023-10-15 15:03:37 -0400 (Sun, 15 Oct 2023) EndedAt: 2023-10-15 15:04:31 -0400 (Sun, 15 Oct 2023) EllapsedTime: 53.9 seconds RetCode: 0 Status: OK