Package: HIREewas Version: 1.18.0 Command: rm -rf HIREewas.buildbin-libdir && mkdir HIREewas.buildbin-libdir && F:\biocbuild\bbs-3.17-bioc\R\bin\R.exe CMD INSTALL --build --library=HIREewas.buildbin-libdir HIREewas_1.18.0.tar.gz StartedAt: 2023-10-16 08:56:16 -0400 (Mon, 16 Oct 2023) EndedAt: 2023-10-16 08:56:21 -0400 (Mon, 16 Oct 2023) EllapsedTime: 5.3 seconds RetCode: 0 Status: OK PackageFile: HIREewas_1.18.0.zip PackageFileSize: 291.3 KiB