Package: HPiP Version: 1.6.0 Command: /Library/Frameworks/R.framework/Resources/bin/R CMD build --keep-empty-dirs --no-resave-data HPiP StartedAt: 2023-10-15 18:55:15 -0400 (Sun, 15 Oct 2023) EndedAt: 2023-10-15 19:13:41 -0400 (Sun, 15 Oct 2023) EllapsedTime: 1105.7 seconds RetCode: 0 Status: OK PackageFile: HPiP_1.6.0.tar.gz PackageFileSize: 4.324 MiB