Package: HPiP Version: 1.6.0 Command: /Library/Frameworks/R.framework/Resources/bin/R CMD INSTALL HPiP StartedAt: 2023-10-15 16:11:23 -0400 (Sun, 15 Oct 2023) EndedAt: 2023-10-15 16:12:03 -0400 (Sun, 15 Oct 2023) EllapsedTime: 40.7 seconds RetCode: 0 Status: OK