Package: HPiP Version: 1.6.0 Command: /home/biocbuild/bbs-3.17-bioc/R/bin/R CMD build --keep-empty-dirs --no-resave-data HPiP StartedAt: 2023-10-15 17:07:29 -0400 (Sun, 15 Oct 2023) EndedAt: 2023-10-15 17:16:57 -0400 (Sun, 15 Oct 2023) EllapsedTime: 568.1 seconds RetCode: 0 Status: OK PackageFile: HPiP_1.6.0.tar.gz PackageFileSize: 4.063 MiB