Package: HPiP Version: 1.6.0 Command: /home/biocbuild/bbs-3.17-bioc/R/bin/R CMD INSTALL HPiP StartedAt: 2023-10-15 15:40:01 -0400 (Sun, 15 Oct 2023) EndedAt: 2023-10-15 15:40:13 -0400 (Sun, 15 Oct 2023) EllapsedTime: 12.1 seconds RetCode: 0 Status: OK