Package: HPiP Version: 1.6.0 Command: chmod a+r HPiP -R && F:\biocbuild\bbs-3.17-bioc\R\bin\R.exe CMD build --keep-empty-dirs --no-resave-data HPiP StartedAt: 2023-10-15 19:51:09 -0400 (Sun, 15 Oct 2023) EndedAt: 2023-10-15 19:59:12 -0400 (Sun, 15 Oct 2023) EllapsedTime: 483.3 seconds RetCode: 0 Status: OK PackageFile: HPiP_1.6.0.tar.gz PackageFileSize: 2.61 MiB