Package: HPiP Version: 1.6.0 Command: F:\biocbuild\bbs-3.17-bioc\R\bin\R.exe CMD check --no-multiarch --install=check:HPiP.install-out.txt --library=F:\biocbuild\bbs-3.17-bioc\R\library --no-vignettes --timings HPiP_1.6.0.tar.gz StartedAt: 2023-10-16 03:05:36 -0400 (Mon, 16 Oct 2023) EndedAt: 2023-10-16 03:09:51 -0400 (Mon, 16 Oct 2023) EllapsedTime: 255.1 seconds RetCode: 0 Status: OK CheckDir: HPiP.Rcheck Warnings: 0