Package: HPiP Version: 1.6.0 Command: F:\biocbuild\bbs-3.17-bioc\R\bin\R.exe CMD INSTALL HPiP StartedAt: 2023-10-15 16:47:47 -0400 (Sun, 15 Oct 2023) EndedAt: 2023-10-15 16:48:06 -0400 (Sun, 15 Oct 2023) EllapsedTime: 18.3 seconds RetCode: 0 Status: OK