Package: Harman Version: 1.28.0 Command: rm -rf Harman.buildbin-libdir && mkdir Harman.buildbin-libdir && F:\biocbuild\bbs-3.17-bioc\R\bin\R.exe CMD INSTALL --build --library=Harman.buildbin-libdir Harman_1.28.0.tar.gz StartedAt: 2023-10-16 08:55:07 -0400 (Mon, 16 Oct 2023) EndedAt: 2023-10-16 08:55:25 -0400 (Mon, 16 Oct 2023) EllapsedTime: 17.8 seconds RetCode: 0 Status: OK PackageFile: Harman_1.28.0.zip PackageFileSize: 1.193 MiB