Package: Harman Version: 1.28.0 Command: F:\biocbuild\bbs-3.17-bioc\R\bin\R.exe CMD check --no-multiarch --install=check:Harman.install-out.txt --library=F:\biocbuild\bbs-3.17-bioc\R\library --no-vignettes --timings Harman_1.28.0.tar.gz StartedAt: 2023-10-16 02:57:15 -0400 (Mon, 16 Oct 2023) EndedAt: 2023-10-16 02:58:41 -0400 (Mon, 16 Oct 2023) EllapsedTime: 86.2 seconds RetCode: 0 Status: OK CheckDir: Harman.Rcheck Warnings: 0