Package: HiCExperiment Version: 1.0.0 Command: /Library/Frameworks/R.framework/Resources/bin/R CMD check --install=check:HiCExperiment.install-out.txt --library=/Library/Frameworks/R.framework/Resources/library --no-vignettes --timings HiCExperiment_1.0.0.tar.gz StartedAt: 2023-10-16 02:36:36 -0400 (Mon, 16 Oct 2023) EndedAt: 2023-10-16 02:53:12 -0400 (Mon, 16 Oct 2023) EllapsedTime: 995.4 seconds RetCode: 0 Status: OK CheckDir: HiCExperiment.Rcheck Warnings: 0