Package: HiCExperiment Version: 1.0.0 Command: /home/biocbuild/bbs-3.17-bioc/R/bin/R CMD build --keep-empty-dirs --no-resave-data HiCExperiment StartedAt: 2023-10-15 17:06:12 -0400 (Sun, 15 Oct 2023) EndedAt: 2023-10-15 17:06:53 -0400 (Sun, 15 Oct 2023) EllapsedTime: 41.7 seconds RetCode: 1 Status: ERROR PackageFile: None PackageFileSize: NA