Package: HiLDA Version: 1.14.0 Command: rm -rf HiLDA.buildbin-libdir && mkdir HiLDA.buildbin-libdir && /Users/biocbuild/BBS/utils/build-universal.sh HiLDA_1.14.0.tar.gz /Library/Frameworks/R.framework/Resources/bin/R HiLDA.buildbin-libdir StartedAt: 2023-10-16 09:33:08 -0400 (Mon, 16 Oct 2023) EndedAt: 2023-10-16 09:34:25 -0400 (Mon, 16 Oct 2023) EllapsedTime: 76.7 seconds RetCode: 0 Status: OK PackageFile: HiLDA_1.14.0.tgz PackageFileSize: 2.589 MiB