Package: HiLDA Version: 1.14.0 Command: /Library/Frameworks/R.framework/Resources/bin/R CMD build --keep-empty-dirs --no-resave-data HiLDA StartedAt: 2023-10-15 18:53:25 -0400 (Sun, 15 Oct 2023) EndedAt: 2023-10-15 19:02:29 -0400 (Sun, 15 Oct 2023) EllapsedTime: 543.3 seconds RetCode: 0 Status: OK PackageFile: HiLDA_1.14.0.tar.gz PackageFileSize: 2.441 MiB