Package: HilbertVis Version: 1.58.0 Command: rm -rf HilbertVis.buildbin-libdir && mkdir HilbertVis.buildbin-libdir && F:\biocbuild\bbs-3.17-bioc\R\bin\R.exe CMD INSTALL --build --library=HilbertVis.buildbin-libdir HilbertVis_1.58.0.tar.gz StartedAt: 2023-10-16 08:56:06 -0400 (Mon, 16 Oct 2023) EndedAt: 2023-10-16 08:56:14 -0400 (Mon, 16 Oct 2023) EllapsedTime: 8.3 seconds RetCode: 0 Status: OK PackageFile: HilbertVis_1.58.0.zip PackageFileSize: 931.4 KiB