Package: HilbertVis Version: 1.58.0 Command: chmod a+r HilbertVis -R && F:\biocbuild\bbs-3.17-bioc\R\bin\R.exe CMD build --keep-empty-dirs --no-resave-data HilbertVis StartedAt: 2023-10-15 19:49:31 -0400 (Sun, 15 Oct 2023) EndedAt: 2023-10-15 19:49:45 -0400 (Sun, 15 Oct 2023) EllapsedTime: 14.3 seconds RetCode: 0 Status: OK PackageFile: HilbertVis_1.58.0.tar.gz PackageFileSize: 1018 KiB