Package: HilbertVis Version: 1.58.0 Command: F:\biocbuild\bbs-3.17-bioc\R\bin\R.exe CMD check --no-multiarch --install=check:HilbertVis.install-out.txt --library=F:\biocbuild\bbs-3.17-bioc\R\library --no-vignettes --timings HilbertVis_1.58.0.tar.gz StartedAt: 2023-10-16 03:03:23 -0400 (Mon, 16 Oct 2023) EndedAt: 2023-10-16 03:03:53 -0400 (Mon, 16 Oct 2023) EllapsedTime: 29.4 seconds RetCode: 0 Status: OK CheckDir: HilbertVis.Rcheck Warnings: 0