Package: HilbertVis Version: 1.58.0 Command: F:\biocbuild\bbs-3.17-bioc\R\bin\R.exe CMD INSTALL HilbertVis StartedAt: 2023-10-15 15:50:51 -0400 (Sun, 15 Oct 2023) EndedAt: 2023-10-15 15:50:58 -0400 (Sun, 15 Oct 2023) EllapsedTime: 7.4 seconds RetCode: 0 Status: OK