Package: HubPub Version: 1.8.1 Command: rm -rf HubPub.buildbin-libdir && mkdir HubPub.buildbin-libdir && /Users/biocbuild/BBS/utils/build-universal.sh HubPub_1.8.1.tar.gz /Library/Frameworks/R.framework/Resources/bin/R HubPub.buildbin-libdir StartedAt: 2023-10-16 09:33:52 -0400 (Mon, 16 Oct 2023) EndedAt: 2023-10-16 09:34:07 -0400 (Mon, 16 Oct 2023) EllapsedTime: 14.8 seconds RetCode: 0 Status: OK PackageFile: HubPub_1.8.1.tgz PackageFileSize: 953.3 KiB