Package: HubPub Version: 1.8.1 Command: rm -rf HubPub.buildbin-libdir && mkdir HubPub.buildbin-libdir && F:\biocbuild\bbs-3.17-bioc\R\bin\R.exe CMD INSTALL --build --library=HubPub.buildbin-libdir HubPub_1.8.1.tar.gz StartedAt: 2023-10-16 08:56:34 -0400 (Mon, 16 Oct 2023) EndedAt: 2023-10-16 08:56:44 -0400 (Mon, 16 Oct 2023) EllapsedTime: 10.4 seconds RetCode: 0 Status: OK PackageFile: HubPub_1.8.1.zip PackageFileSize: 959.2 KiB