Package: HubPub Version: 1.8.1 Command: chmod a+r HubPub -R && F:\biocbuild\bbs-3.17-bioc\R\bin\R.exe CMD build --keep-empty-dirs --no-resave-data HubPub StartedAt: 2023-10-15 19:51:27 -0400 (Sun, 15 Oct 2023) EndedAt: 2023-10-15 19:52:43 -0400 (Sun, 15 Oct 2023) EllapsedTime: 76.0 seconds RetCode: 0 Status: OK PackageFile: HubPub_1.8.1.tar.gz PackageFileSize: 1.301 MiB