Package: ILoReg Version: 1.10.0 Command: rm -rf ILoReg.buildbin-libdir && mkdir ILoReg.buildbin-libdir && F:\biocbuild\bbs-3.17-bioc\R\bin\R.exe CMD INSTALL --build --library=ILoReg.buildbin-libdir ILoReg_1.10.0.tar.gz StartedAt: 2023-10-16 08:57:20 -0400 (Mon, 16 Oct 2023) EndedAt: 2023-10-16 08:57:59 -0400 (Mon, 16 Oct 2023) EllapsedTime: 38.9 seconds RetCode: 0 Status: OK PackageFile: ILoReg_1.10.0.zip PackageFileSize: 2.158 MiB